BEGIN:VCALENDAR
PRODID:-//Microsoft Corporation//Outlook 16.0 MIMEDIR//EN
VERSION:2.0
METHOD:PUBLISH
X-MS-OLK-FORCEINSPECTOROPEN:TRUE
BEGIN:VEVENT
CLASS:PUBLIC
CREATED:20231206T212727Z
DESCRIPTION:Join us for Elizabethtown College Homecoming & Family Weekend 2025, the weekend of October 3, 2025!\n
DTEND;VALUE=DATE:20251006
DTSTAMP:20231016T125616Z
DTSTART;VALUE=DATE:20251003
LAST-MODIFIED:20231206T212727Z
LOCATION:Elizabethtown College
PRIORITY:5
SEQUENCE:0
SUMMARY;LANGUAGE=en-us:Elizabethtown College Homecoming & Family Weekend 2025
TRANSP:TRANSPARENT
UID:040000008200E00074C5B7101A82E00800000000E0604C880E00DA0100000000000000010000000B445257D09D2B84280A860A3E4C0F3FE
X-ALT-DESC;FMTTYPE=text/html:<html xmlns:v="urn:schemas-microsoft-com:vml" xmlns:o="urn:schemas-microsoft-com:office:office" xmlns:w="urn:schemas-microsoft-com:office:word" xmlns:m="http://schemas.microsoft.com/office/2004/12/omml" xmlns="http://www.w3.org/TR/REC-html40"><head><meta name=ProgId content=Word.Document><meta name=Generator content="Microsoft Word 15"><meta name=Originator content="Microsoft Word 15"><!-- Custom HTML content --></head><body lang=EN-US link="#0563C1" vlink="#954F72" style='tab-interval:.5in;word-wrap:break-word'><div class=WordSection1><p>Join us for Elizabethtown College Homecoming &amp; Family Weekend 2025, the weekend of October 3-5, 2025!</p></div></body></html>
X-MICROSOFT-CDO-BUSYSTATUS:FREE
X-MICROSOFT-CDO-IMPORTANCE:1
X-MICROSOFT-DISALLOW-COUNTER:FALSE
X-MS-OLK-AUTOFILLLOCATION:FALSE
X-MS-OLK-CONFTYPE:0
BEGIN:VALARM
TRIGGER:-PT1080M
ACTION:DISPLAY
DESCRIPTION:Reminder
END:VALARM
END:VEVENT
END:VCALENDAR